BEGIN:VCALENDAR
VERSION:2.0
PRODID:-//ChamberMaster//Event Calendar 2.0//EN
METHOD:PUBLISH
X-PUBLISHED-TTL:P3D
REFRESH-INTERVAL:P3D
CALSCALE:GREGORIAN
BEGIN:VEVENT
DTSTART:20260308T150000Z
DTEND:20260308T180000Z
X-MICROSOFT-CDO-ALLDAYEVENT:FALSE
SUMMARY:Women's Wellness Mini Market
DESCRIPTION:International Women's Day Wellness Market & Open Gym at SOFLO Ninja Academy\n\nCelebrate International Women's Day with a fun and empowering community event at SOFLO Ninja Academy in Pompano Beach. This special event brings together local women-focused wellness businesses while giving families a chance to enjoy an active and welcoming environment.\n\nFrom 11:00 AM to 2:00 PM\, guests can explore a Mini Wellness Market featuring local vendors offering wellness services\, samples\, and information focused on supporting women's health and wellbeing. Participating vendors include Yoga Joint Coral Springs\, Beyond Performance Medicine\, Dr. Jessica Physical Therapy\, Dr. Patel Chiropractic\, Manuela's Flower House\, 3 Natives Coral Springs\, and a local women's nonprofit.\n\nWhile moms connect with vendors and enjoy the market\, kids can enjoy supervised open gym play on SOFLO's ninja obstacle course from 11:00 AM to 4:00 PM. There will also be fun ninja challenges and raffle prizes throughout the event.\n\nMoms attend the market for free\, and open gym is free for SOFLO members. Non-members can participate in open gym for $15 per child with promo code PBCC.\n\nBring the family\, support local women-owned and wellness businesses\, and celebrate the day with movement\, community\, and fun.\n\nLocation:\n\nSOFLO Ninja Academy\n\n1751 W Copans Rd\, Suites 1 2\n\nPompano Beach\, FL 33067
X-ALT-DESC;FMTTYPE=text/html:<div>\n<div>\n<div>\n<div>\n<div>\n<div>\n<div>\n<div>\n<p><strong>International Women&rsquo\;s Day Wellness Market &amp\; Open Gym at SOFLO Ninja Academy</strong></p>\n\n<p>Celebrate International Women&rsquo\;s Day with a fun and empowering community event at SOFLO Ninja Academy in Pompano Beach. This special event brings together local women-focused wellness businesses while giving families a chance to enjoy an active and welcoming environment.</p>\n\n<p>From&nbsp\;<strong>11:00 AM to 2:00 PM</strong>\, guests can explore a&nbsp\;<strong>Mini Wellness Market</strong>&nbsp\;featuring local vendors offering wellness services\, samples\, and information focused on supporting women&rsquo\;s health and wellbeing. Participating vendors include Yoga Joint Coral Springs\, Beyond Performance Medicine\, Dr. Jessica Physical Therapy\, Dr. Patel Chiropractic\, Manuela&rsquo\;s Flower House\, 3 Natives Coral Springs\, and a local women&rsquo\;s nonprofit.</p>\n\n<p>While moms connect with vendors and enjoy the market\,&nbsp\;<strong>kids can enjoy supervised open gym play on SOFLO&rsquo\;s ninja obstacle course from 11:00 AM to 4:00 PM</strong>. There will also be fun ninja challenges and raffle prizes throughout the event.</p>\n\n<p><strong>Moms attend the market for free</strong>\, and open gym is&nbsp\;<strong>free for SOFLO members</strong>. Non-members can participate in open gym for&nbsp\;<strong>$15 per child</strong>&nbsp\;with promo code&nbsp\;<strong>PBCC</strong>.</p>\n\n<p>Bring the family\, support local women-owned and wellness businesses\, and celebrate the day with movement\, community\, and fun.</p>\n\n<p><strong>Location:</strong><br />\nSOFLO Ninja Academy<br />\n1751 W Copans Rd\, Suites 1&ndash\;2<br />\nPompano Beach\, FL 33067</p>\n</div>\n</div>\n</div>\n</div>\n</div>\n</div>\n</div>\n</div>\n\n<div>\n<div>&nbsp\;</div>\n\n<div>\n<div>\n<div>\n<div>&nbsp\;</div>\n\n<div>\n<div>&nbsp\;</div>\n\n<div>&nbsp\;</div>\n\n<div>\n<div>\n<div>\n<div>\n<div>\n<p>&nbsp\;</p>\n</div>\n</div>\n</div>\n\n<div>&nbsp\;</div>\n\n<div>\n<div>\n<div>&nbsp\;</div>\n</div>\n</div>\n</div>\n</div>\n</div>\n</div>\n</div>\n</div>\n</div>\n
LOCATION:SOFLO Ninja Academy 1751 W Copans Rd\, Suites 1 2 Pompano Beach\, FL 33067
UID:e.1957.687896
SEQUENCE:3
DTSTAMP:20260421T142719Z
URL:https://chambermaster.pompanobeachchamber.com/events/details/women-s-wellness-mini-market-687896
END:VEVENT

END:VCALENDAR
