BEGIN:VCALENDAR
VERSION:2.0
PRODID:-//ChamberMaster//Event Calendar 2.0//EN
METHOD:PUBLISH
X-PUBLISHED-TTL:P3D
REFRESH-INTERVAL:P3D
CALSCALE:GREGORIAN
BEGIN:VEVENT
DTSTART:20200519T153000Z
DTEND:20200519T170000Z
X-MICROSOFT-CDO-ALLDAYEVENT:FALSE
SUMMARY:Virtual Next Level Business Program - Readying for Reopening
DESCRIPTION:Next Level Small Business Education Event\n\nReadying for Reopening\n\nSusan Gingerich
X-ALT-DESC;FMTTYPE=text/html:Next Level Small Business Education Event<br />\nReadying for Reopening<br />\nSusan Gingerich
LOCATION:Virtual Register and a Zoom invitation will be forwarded to your email
UID:e.1957.679670
SEQUENCE:3
DTSTAMP:20260419T222155Z
URL:https://chambermaster.pompanobeachchamber.com/events/details/virtual-next-level-business-program-readying-for-reopening-679670
END:VEVENT

END:VCALENDAR
