BEGIN:VCALENDAR
VERSION:2.0
PRODID:-//ChamberMaster//Event Calendar 2.0//EN
METHOD:PUBLISH
X-PUBLISHED-TTL:P3D
REFRESH-INTERVAL:P3D
CALSCALE:GREGORIAN
BEGIN:VEVENT
DTSTART:20210806T120000Z
DTEND:20210806T130000Z
X-MICROSOFT-CDO-ALLDAYEVENT:FALSE
SUMMARY:The A-Team
DESCRIPTION:The A Team... Every 1st and 3rd Friday's of the month\n\nContact: Rick Tobin 954-543-5411 ext  1 or Lance Hellinger 954-317-3829\, 954-234-7528\n\n\nHurry and register\, Hold your spot to attend one valuable benefit of your membership in the Chamber. \n\n \n\n\nThe A-Team is an open group. You can also be a member of another Pompano Chamber enterprise group. Or join others in a similar profession to get your name and company visible to other chamber members!
X-ALT-DESC;FMTTYPE=text/html:<span style="font-size:14px\;">The <strong>A</strong> Team... Every 1st and 3rd Friday&#39\;s of the month<br />\nContact: Rick Tobin 954-543-5411 ext&nbsp\; 1 or Lance Hellinger 954-317-3829\, 954-234-7528</span>\n<div style="margin: 0px\; padding: 0px\; border: 0px\; font-variant-numeric: inherit\; font-variant-east-asian: inherit\; font-stretch: inherit\; font-size: 13.31px\; line-height: inherit\; font-family: Verdana\; vertical-align: baseline\; color: black\;"><br />\n<span style="margin: 0px\; padding: 0px\; border: 0px\; font: inherit\; vertical-align: baseline\; color: inherit\;">Hurry and register\,&nbsp\;Hold your spot&nbsp\;to attend&nbsp\;one valuable benefit&nbsp\;of your membership in the Chamber.&nbsp\;</span></div>\n\n<div style="margin: 0px\; padding: 0px\; border: 0px\; font-variant-numeric: inherit\; font-variant-east-asian: inherit\; font-stretch: inherit\; font-size: 13.31px\; line-height: inherit\; font-family: Verdana\; vertical-align: baseline\; color: black\;">&nbsp\;</div>\n\n<div style="margin: 0px\; padding: 0px\; border: 0px\; font-variant-numeric: inherit\; font-variant-east-asian: inherit\; font-stretch: inherit\; font-size: 13.31px\; line-height: inherit\; font-family: Verdana\; vertical-align: baseline\; color: black\;">\n<p class="x_MsoNormal" style="margin: 0in\; font-size: 11pt\; font-family: Calibri\, sans-serif\; color: rgb(32\, 31\, 30)\;"><span style="font-size:14px\;"><span style="margin: 0px\; padding: 0px\; border: 0px\; font-style: inherit\; font-variant: inherit\; font-weight: inherit\; font-stretch: inherit\; line-height: inherit\; font-family: Arial\, sans-serif\; vertical-align: baseline\; color: rgb(0\, 32\, 96)\;">The A-Team is an open group. You can also be a member of another Pompano Chamber enterprise group. Or join others in a similar profession to get your name and company visible to other chamber members! &nbsp\;&nbsp\;</span></span></p>\n\n<p class="x_MsoNormal" style="margin: 0in\; font-size: 11pt\; font-family: Calibri\, sans-serif\; color: rgb(32\, 31\, 30)\;"><span style="font-size:14px\;"><span style="margin: 0px\; padding: 0px\; border: 0px\; font-style: inherit\; font-variant: inherit\; font-weight: inherit\; font-stretch: inherit\; line-height: inherit\; font-family: Arial\, sans-serif\; vertical-align: baseline\; color: inherit\;">&nbsp\;</span></span></p>\n\n<p class="x_MsoNormal" style="margin: 0in\; font-size: 11pt\; font-family: Calibri\, sans-serif\; color: rgb(32\, 31\, 30)\;">&nbsp\;</p>\n</div>\n
LOCATION:VIRTUAL Register and you will be sent confirmation information
UID:e.1957.679721
SEQUENCE:3
DTSTAMP:20260421T100206Z
URL:https://chambermaster.pompanobeachchamber.com/events/details/the-a-team-08-06-2021-679721
END:VEVENT

END:VCALENDAR
