BEGIN:VCALENDAR
VERSION:2.0
PRODID:-//ChamberMaster//Event Calendar 2.0//EN
METHOD:PUBLISH
X-PUBLISHED-TTL:P3D
REFRESH-INTERVAL:P3D
CALSCALE:GREGORIAN
BEGIN:VEVENT
DTSTART;VALUE=DATE:20291017
DTEND;VALUE=DATE:20291018
TRANSP:TRANSPARENT
X-MICROSOFT-CDO-ALLDAYEVENT:TRUE
SUMMARY:Support Your Local Chamber of Commerce
DESCRIPTION:Celebrated annually on the third Wednesday in October\, the purpose of Support Your Local Chamber of Commerce Day is to strengthen local businesses by encouraging people to use the services offered by chamber members.
X-ALT-DESC;FMTTYPE=text/html:<br>\n<span style="font-size:14px\;"><span style="color: rgb(32\, 33\, 36)\; font-family: Roboto\, arial\, sans-serif\;">Celebrated annually on the third Wednesday in October\, the purpose of Support Your Local Chamber of Commerce Day is&nbsp\;</span><b style="color: rgb(32\, 33\, 36)\; font-family: Roboto\, arial\, sans-serif\; font-size: 16px\;">to strengthen local businesses by encouraging people to use the services offered by chamber members</b><span style="color: rgb(32\, 33\, 36)\; font-family: Roboto\, arial\, sans-serif\;">.</span></span>
LOCATION:
UID:e.1957.683886
SEQUENCE:3
DTSTAMP:20260425T221841Z
URL:https://chambermaster.pompanobeachchamber.com/events/details/support-your-local-chamber-of-commerce-10-17-2029-683886
END:VEVENT

END:VCALENDAR
