BEGIN:VCALENDAR
VERSION:2.0
PRODID:-//ChamberMaster//Event Calendar 2.0//EN
METHOD:PUBLISH
X-PUBLISHED-TTL:P3D
REFRESH-INTERVAL:P3D
CALSCALE:GREGORIAN
BEGIN:VEVENT
DTSTART:20260102T230000Z
DTEND:20260103T030000Z
X-MICROSOFT-CDO-ALLDAYEVENT:FALSE
SUMMARY:Old Town UNTRAPPED
DESCRIPTION:A vibrant night of music\, art\, and community comes alive at Pompano Beach's Cultural Arts & Music Block Party! The Somethings bring soul-jazz and classic funk to life with deep grooves\, rich group harmonies\, and electrifying solos inspired by legends like Grant Green and The Meters. Explore fresh exhibitions at Bailey Contemporary Arts\, shop with local vendors\, enjoy food trucks\, and take in the lively block party atmosphere. This free\, family-friendly event is the perfect way to kick off the new year with music\, art\, and community energy.
X-ALT-DESC;FMTTYPE=text/html:<!--StartFragment--><span data-olk-copy-source="MessageBody" style="line-height: 107%\;">A vibrant night of music\, art\, and community comes alive at Pompano Beach&rsquo\;s Cultural Arts &amp\; Music Block Party! The Somethings bring soul-jazz and classic funk to life with deep grooves\, rich group harmonies\, and electrifying solos inspired by legends like Grant Green and The Meters. Explore fresh exhibitions at Bailey Contemporary Arts\, shop with local vendors\, enjoy food trucks\, and take in the lively block party atmosphere. This free\, family-friendly event is the perfect way to kick off the new year with music\, art\, and community energy.</span><!--EndFragment-->
LOCATION:Bailey Contemporary Arts\, 41 NE 1st Street
UID:e.1957.687746
SEQUENCE:3
DTSTAMP:20260421T121104Z
URL:https://chambermaster.pompanobeachchamber.com/events/details/old-town-untrapped-687746
END:VEVENT

END:VCALENDAR
