BEGIN:VCALENDAR
VERSION:2.0
PRODID:-//ChamberMaster//Event Calendar 2.0//EN
METHOD:PUBLISH
X-PUBLISHED-TTL:P3D
REFRESH-INTERVAL:P3D
CALSCALE:GREGORIAN
BEGIN:VEVENT
DTSTART;VALUE=DATE:20300101
DTEND;VALUE=DATE:20300102
TRANSP:TRANSPARENT
X-MICROSOFT-CDO-ALLDAYEVENT:TRUE
SUMMARY:Chamber Office Closed - New Year's Day
DESCRIPTION:Happy New Year! \n\nNew Year's Day is observed on the first day of the Gregorian calendar. It is celebrated every January 1st and has been a federal holiday since 1885.
X-ALT-DESC;FMTTYPE=text/html:<strong><span style="font-size: 16px\;">Happy New Year!&nbsp\;</span></strong><br />\n<font face="Helvetica Neue\, Helvetica\, Arial\, sans-serif"><span style="font-size: 15.456px\;">New Year&#39\;s Day&nbsp\;is observed on the first day of the Gregorian calendar. It is celebrated every January 1st and&nbsp\;has been a federal holiday since 1885.</span></font>
LOCATION:
UID:e.1957.683849
SEQUENCE:3
DTSTAMP:20260426T025910Z
URL:https://chambermaster.pompanobeachchamber.com/events/details/new-year-s-day-01-01-2030-683849
END:VEVENT

END:VCALENDAR
