BEGIN:VCALENDAR
VERSION:2.0
PRODID:-//ChamberMaster//Event Calendar 2.0//EN
METHOD:PUBLISH
X-PUBLISHED-TTL:P3D
REFRESH-INTERVAL:P3D
CALSCALE:GREGORIAN
BEGIN:VEVENT
DTSTART;VALUE=DATE:20230729
DTEND;VALUE=DATE:20230730
TRANSP:TRANSPARENT
X-MICROSOFT-CDO-ALLDAYEVENT:TRUE
SUMMARY:National Lasagna Day
DESCRIPTION:CARRABBA'S Pompano Beach   one of our long-time Chamber members\, is sponsoring the following fundraiser for needy families of our community:\n\n SATURDAY\, JULY 29TH   NATIONAL LASAGNA DAY!!!\n\n10% of all Lasagna sales are being donated to needy families of our community.\n\n \n\nLasagna and salad for 10 people for $100!!! (Take out orders only)\n\n \n\nFor offices and companies that are closed on Saturday\n\nCARRABBA'S will even offer the special on FRIDAY\, JULY 28TH.
X-ALT-DESC;FMTTYPE=text/html:<p class="x_MsoNormal" style="margin: 0in\; font-size: 11pt\; font-family: Calibri\, sans-serif\; color: rgb(36\, 36\, 36)\;"><span style="border: 0px\; font-style: inherit\; font-variant: inherit\; font-weight: inherit\; font-stretch: inherit\; font-size: 12pt\; line-height: inherit\; font-family: inherit\; font-optical-sizing: inherit\; font-kerning: inherit\; font-feature-settings: inherit\; font-variation-settings: inherit\; margin: 0px\; padding: 0px\; vertical-align: baseline\; color: inherit\;">CARRABBA&rsquo\;S Pompano Beach &ndash\; one of our long-time Chamber members\, is sponsoring the following fundraiser for needy families of our community:</span></p>\n\n<p class="x_MsoNormal" style="margin: 0in\;"><span style="color: inherit\; font-family: inherit\; font-size: 12pt\; border: 0px\; font-style: inherit\; font-variant: inherit\; font-weight: inherit\; font-stretch: inherit\; line-height: inherit\; font-optical-sizing: inherit\; font-kerning: inherit\; font-feature-settings: inherit\; font-variation-settings: inherit\; margin: 0px\; padding: 0px\; vertical-align: baseline\;">&nbsp\;</span><b style="color: rgb(36\, 36\, 36)\; font-family: Calibri\, sans-serif\; font-size: 11pt\;"><span style="border: 0px\; font-style: inherit\; font-variant: inherit\; font-weight: inherit\; font-stretch: inherit\; font-size: 14pt\; line-height: inherit\; font-family: inherit\; font-optical-sizing: inherit\; font-kerning: inherit\; font-feature-settings: inherit\; font-variation-settings: inherit\; margin: 0px\; padding: 0px\; vertical-align: baseline\; color: red !important\;">SATURDAY\, JULY 29<sup>TH</sup>&nbsp\;&ndash\; NATIONAL LASAGNA&nbsp\;</span></b><font color="#ff0000" face="Calibri\, sans-serif"><span style="font-size: 18.6667px\;"><b>DAY!!!</b></span></font></p>\n\n<p align="center" class="x_MsoNormal" style="margin: 0in\; text-align: center\;"><b style="color: rgb(36\, 36\, 36)\; font-family: Calibri\, sans-serif\; font-size: 11pt\;"><span style="border: 0px\; font-style: inherit\; font-variant: inherit\; font-weight: inherit\; font-stretch: inherit\; font-size: 12pt\; line-height: inherit\; font-family: inherit\; font-optical-sizing: inherit\; font-kerning: inherit\; font-feature-settings: inherit\; font-variation-settings: inherit\; margin: 0px\; padding: 0px\; vertical-align: baseline\; color: inherit\;">10% of all Lasagna sales are being donated to needy families of our&nbsp\;</span></b><font color="#242424" face="Calibri\, sans-serif"><span style="font-size: 16px\;"><b>community.</b></span></font></p>\n\n<p align="center" class="x_MsoNormal" style="margin: 0in\; font-size: 11pt\; font-family: Calibri\, sans-serif\; color: rgb(36\, 36\, 36)\; text-align: center\;"><span style="border: 0px\; font-style: inherit\; font-variant: inherit\; font-weight: inherit\; font-stretch: inherit\; font-size: 12pt\; line-height: inherit\; font-family: inherit\; font-optical-sizing: inherit\; font-kerning: inherit\; font-feature-settings: inherit\; font-variation-settings: inherit\; margin: 0px\; padding: 0px\; vertical-align: baseline\; color: inherit\;">&nbsp\;</span></p>\n\n<p align="center" class="x_MsoNormal" style="margin: 0in\; text-align: center\;"><span style="font-size:16px\;"><b style="color: rgb(36\, 36\, 36)\; font-family: Calibri\, sans-serif\; font-size: 11pt\;"><span style="border: 0px\; font-style: inherit\; font-variant: inherit\; font-weight: inherit\; font-stretch: inherit\; line-height: inherit\; font-family: inherit\; font-optical-sizing: inherit\; font-kerning: inherit\; font-feature-settings: inherit\; font-variation-settings: inherit\; margin: 0px\; padding: 0px\; vertical-align: baseline\; color: rgb(0\, 176\, 80) !important\;">Lasagna and salad for 10 people for $</span></b><font color="#00b050" face="Calibri\, sans-serif"><b style="font-size: 16px\;">100!!! (</b><b>Take</b><b style="font-size: 16px\;">&nbsp\;out orders only)</b></font></span></p>\n\n<p align="center" class="x_MsoNormal" style="margin: 0in\; font-size: 11pt\; font-family: Calibri\, sans-serif\; color: rgb(36\, 36\, 36)\; text-align: center\;"><b><span style="border: 0px\; font-style: inherit\; font-variant: inherit\; font-weight: inherit\; font-stretch: inherit\; font-size: 12pt\; line-height: inherit\; font-family: inherit\; font-optical-sizing: inherit\; font-kerning: inherit\; font-feature-settings: inherit\; font-variation-settings: inherit\; margin: 0px\; padding: 0px\; vertical-align: baseline\; color: rgb(0\, 176\, 80) !important\;">&nbsp\;</span></b></p>\n\n<p align="center" class="x_MsoNormal" style="margin: 0in\; font-size: 11pt\; font-family: Calibri\, sans-serif\; color: rgb(36\, 36\, 36)\; text-align: center\;"><span style="border: 0px\; font-style: inherit\; font-variant: inherit\; font-weight: inherit\; font-stretch: inherit\; font-size: 12pt\; line-height: inherit\; font-family: inherit\; font-optical-sizing: inherit\; font-kerning: inherit\; font-feature-settings: inherit\; font-variation-settings: inherit\; margin: 0px\; padding: 0px\; vertical-align: baseline\; color: inherit\;">For offices and companies that are closed on Saturday</span></p>\n\n<p align="center" class="x_MsoNormal" style="margin: 0in\; text-align: center\;"><span style="color: inherit\; font-family: inherit\; font-size: 12pt\; border: 0px\; font-style: inherit\; font-variant: inherit\; font-weight: inherit\; font-stretch: inherit\; line-height: inherit\; font-optical-sizing: inherit\; font-kerning: inherit\; font-feature-settings: inherit\; font-variation-settings: inherit\; margin: 0px\; padding: 0px\; vertical-align: baseline\;">CARRABBA&rsquo\;S will even offer the special on&nbsp\;<b>FRIDAY\, JULY&nbsp\;</b></span><font color="#242424" face="Calibri\, sans-serif"><span style="font-size: 16px\;"><b>28TH.</b></span></font></p>\n
LOCATION:Please contact: Lucile Coppola\, Manager 561-318-9672 CARRABBA'S 1299 So. Federal Hwy\, Pompano Beach 33062
UID:e.1957.684900
SEQUENCE:3
DTSTAMP:20260421T183835Z
URL:https://chambermaster.pompanobeachchamber.com/events/details/national-lasagna-day-684900
END:VEVENT

END:VCALENDAR
