BEGIN:VCALENDAR
VERSION:2.0
PRODID:-//ChamberMaster//Event Calendar 2.0//EN
METHOD:PUBLISH
X-PUBLISHED-TTL:P3D
REFRESH-INTERVAL:P3D
CALSCALE:GREGORIAN
BEGIN:VEVENT
DTSTART;VALUE=DATE:20230720
DTEND;VALUE=DATE:20230721
TRANSP:TRANSPARENT
X-MICROSOFT-CDO-ALLDAYEVENT:TRUE
SUMMARY:Membership Breakfast (NO July Breakfast)
DESCRIPTION:Sorry Folks there is NO Membership Breakfast for the month of July.\n\nSee you all when we return in August!
X-ALT-DESC;FMTTYPE=text/html:<b>Sorry Folks there is NO Membership Breakfast for the month of July.<br />\nSee you all when we return in August!</b>
LOCATION:
UID:e.1957.683365
SEQUENCE:3
DTSTAMP:20260421T183953Z
URL:https://chambermaster.pompanobeachchamber.com/events/details/membership-breakfast-no-july-breakfast-683365
END:VEVENT

END:VCALENDAR
