BEGIN:VCALENDAR
VERSION:2.0
PRODID:-//ChamberMaster//Event Calendar 2.0//EN
METHOD:PUBLISH
X-PUBLISHED-TTL:P3D
REFRESH-INTERVAL:P3D
CALSCALE:GREGORIAN
BEGIN:VEVENT
DTSTART:20231116T124500Z
DTEND:20231116T140000Z
X-MICROSOFT-CDO-ALLDAYEVENT:FALSE
SUMMARY:Membership Breakfast and Health & Wellness Expo
DESCRIPTION:Join Us for Breakfast and our 2nd annual Health and Wellness Expo\n\nSponsored by Broward Health Imperial\n\nConnect\, Learn\, and Share with an expo table. Space is limited\, reserve yours soon!
X-ALT-DESC;FMTTYPE=text/html:<b>Join Us for&nbsp\;Breakfast and our 2nd annual Health and Wellness Expo<br />\nSponsored by Broward Health Imperial</b><br />\n<b>Connect\, Learn\, and Share with an expo table. Space is limited\, reserve yours soon!</b><br />\n<br />\n&nbsp\;
LOCATION:Galuppi's 1103 N Federal Highway Pompano Beach\, FL 33062
UID:e.1957.683369
SEQUENCE:3
DTSTAMP:20260421T201141Z
URL:https://chambermaster.pompanobeachchamber.com/events/details/membership-breakfast-and-health-wellness-expo-683369
END:VEVENT

END:VCALENDAR
