BEGIN:VCALENDAR
VERSION:2.0
PRODID:-//ChamberMaster//Event Calendar 2.0//EN
METHOD:PUBLISH
X-PUBLISHED-TTL:P3D
REFRESH-INTERVAL:P3D
CALSCALE:GREGORIAN
BEGIN:VEVENT
DTSTART:20200513T173000Z
DTEND:20200513T183000Z
X-MICROSOFT-CDO-ALLDAYEVENT:FALSE
SUMMARY:Margate Leads - Enterprise Group
DESCRIPTION:Margate Leads\n\nNetworking group that is industry exclusive.\n\nMeetings are held on the 2nd and 4th Wednesday\n\nFor information and access please contact:\n\nJames or Lisa Finch 954-796-1644\n\nsales@signaramacoralsprings.com
X-ALT-DESC;FMTTYPE=text/html:<p><span background-color:="" font-size:="" style="color: rgb(51\, 51\, 51)\; font-family: sans-serif\, Arial\, Verdana\, " trebuchet="">Margate Leads<br />\nNetworking group that is industry exclusive.<br />\nMeetings are held on the&nbsp\;2nd and 4th Wednesday</span><br />\nFor information and access please contact:<br />\nJames or Lisa Finch 954-796-1644<br />\nsales@signaramacoralsprings.com</p>\n\n<div>&nbsp\;</div>\n\n<p><br />\n&nbsp\;</p>\n
LOCATION:Virtual
UID:e.1957.677742
SEQUENCE:3
DTSTAMP:20260420T013729Z
URL:https://chambermaster.pompanobeachchamber.com/events/details/margate-leads-enterprise-group-677742
END:VEVENT

END:VCALENDAR
