BEGIN:VCALENDAR
VERSION:2.0
PRODID:-//ChamberMaster//Event Calendar 2.0//EN
METHOD:PUBLISH
X-PUBLISHED-TTL:P3D
REFRESH-INTERVAL:P3D
CALSCALE:GREGORIAN
BEGIN:VEVENT
DTSTART:20230216T130000Z
DTEND:20230216T213000Z
X-MICROSOFT-CDO-ALLDAYEVENT:FALSE
SUMMARY:Leadership North Broward 2023 (2/16 -7/20/2023)
DESCRIPTION:The goals of Leadership North Broward are to identify develop\, strengthen\, train and equip emerging leaders to reach new heights.\n\n\n	Business and Economic Development\n	Health and Human Services\n	Public Safety & Education\n	Local Government\n	Tourism & Cultural Arts
X-ALT-DESC;FMTTYPE=text/html:The goals of Leadership North Broward are to identify develop\, strengthen\, train and equip emerging leaders to reach new heights.\n<ul><br />\n	<li>Business and Economic Development</li>\n	<li>Health and Human Services</li>\n	<li>Public Safety &amp\; Education</li>\n	<li>Local Government</li>\n	<li>Tourism &amp\; Cultural Arts</li>\n</ul>\n
LOCATION:
UID:e.1957.684167
SEQUENCE:3
DTSTAMP:20260425T104842Z
URL:https://chambermaster.pompanobeachchamber.com/events/details/leadership-north-broward-2023-2-16-7-20-2023-684167
END:VEVENT

END:VCALENDAR
