BEGIN:VCALENDAR
VERSION:2.0
PRODID:-//ChamberMaster//Event Calendar 2.0//EN
METHOD:PUBLISH
X-PUBLISHED-TTL:P3D
REFRESH-INTERVAL:P3D
CALSCALE:GREGORIAN
BEGIN:VEVENT
DTSTART:20270419T200000Z
DTEND:20270419T210000Z
X-MICROSOFT-CDO-ALLDAYEVENT:FALSE
SUMMARY:GPBCC Board of Directors Meet
DESCRIPTION:Exclusive meeting for the GPBCC Board of Directors or by invitation only\nThe Greater Pompano Beach Chamber of Commerce Board of Directors is a diverse group of seasoned leaders who bring strategic insight\, industry expertise\, and unwavering commitment to our mission. With backgrounds spanning business\, finance\, technology\, and public service\, they guide our organization with integrity and vision ensuring long-term growth\, accountability\, and impact.
X-ALT-DESC;FMTTYPE=text/html:<strong><span style="font-size:14px\;">Exclusive meeting for the GPBCC Board of Directors or by invitation only</span></strong>\n<p><span style="font-size:16px\;"><span style="color:#0000CD\;">The Greater Pompano Beach Chamber of Commerce Board of Directors is a diverse group of seasoned leaders who bring strategic insight\, industry expertise\, and unwavering commitment to our mission. With backgrounds spanning business\, finance\, technology\, and public service\, they guide our organization with integrity and vision&nbsp\;ensuring long-term growth\, accountability\, and impact.</span></span></p>\n\n<div>&nbsp\;</div>\n<br />\n<br />\n&nbsp\;
LOCATION:Pompano Beach Cultural Center 50 West Atlantic First Floor\, Conference Room
UID:e.1957.687048
SEQUENCE:3
DTSTAMP:20260422T140324Z
URL:https://chambermaster.pompanobeachchamber.com/events/details/gpbcc-board-of-directors-meet-04-19-2027-687048
END:VEVENT

END:VCALENDAR
