BEGIN:VCALENDAR
VERSION:2.0
PRODID:-//ChamberMaster//Event Calendar 2.0//EN
METHOD:PUBLISH
X-PUBLISHED-TTL:P3D
REFRESH-INTERVAL:P3D
CALSCALE:GREGORIAN
BEGIN:VEVENT
DTSTART:20230922T153000Z
DTEND:20230922T050000Z
X-MICROSOFT-CDO-ALLDAYEVENT:FALSE
SUMMARY:Construction/Contractors Lunch (Vertical Industry Partners)
DESCRIPTION:Construction/Contractors Lunch\n\nLast Friday of the Month\n\nContact: Marianne Miccoli\, 754-235-3088\;  mmiccoli@pompanobeachchamber.com
X-ALT-DESC;FMTTYPE=text/html:Construction/Contractors Lunch<br />\nLast Friday of the Month<br />\nContact: Marianne Miccoli\, 754-235-3088\;&nbsp\;&nbsp\;<a href="mailto:mmiccoli@pompanobeachchamber.com">mmiccoli</a><a>@pompanobeachchamber.com</a>
LOCATION:BARESCO tequeria + bar 225 N. Pompano Beach Blvd. Pompano Beach 33062
UID:e.1957.680008
SEQUENCE:3
DTSTAMP:20260421T115457Z
URL:https://chambermaster.pompanobeachchamber.com/events/details/construction-contractors-lunch-09-29-2023-680008
END:VEVENT

END:VCALENDAR
