BEGIN:VCALENDAR
VERSION:2.0
PRODID:-//ChamberMaster//Event Calendar 2.0//EN
METHOD:PUBLISH
X-PUBLISHED-TTL:P3D
REFRESH-INTERVAL:P3D
CALSCALE:GREGORIAN
BEGIN:VEVENT
DTSTART:20231101T213000Z
DTEND:20231101T230000Z
X-MICROSOFT-CDO-ALLDAYEVENT:FALSE
SUMMARY:Biz w/a Twist
DESCRIPTION:Connect with the Chamber after 5 pm at Biz with a Twist!\n\nCome join us and build connections at our social & networking event.\n\nMeet & Mingle\, Drink & Nibble\n\n \nAfter much anticipation\, The Bite Eatery   the first-ever food hall in Pompano Beach   has opened its doors.\n\n \n\nLocated at 2715 E. Atlantic Boulevard in The Harbor Village Shops\, the food hall features nine culinary concepts and one full-service bar\, all under one roof. Participating restaurants include Deli Shack\, Taco Vibez\, Papa's Pizzeria\, Lobstar\, Mama Mia\, Beef Boyz\, Ceviche Time\, Abuelita's Cuban Bistro and Moop Gelato.\n\n\n\nThe Bite Bar\, centrally located in the food hall\, will serve drinks to all the establishments.
X-ALT-DESC;FMTTYPE=text/html:<span style="font-size:18px\;"><strong>Connect with the Chamber after 5 pm at Biz with a Twist!<br />\nCome join us and build connections at our social &amp\; networking event.<br />\nMeet &amp\; Mingle\, Drink &amp\; Nibble</strong></span><br />\n&nbsp\;\n<p style="padding: 0px\; margin-top: 0px\; margin-right: 0px\; margin-bottom: calc(var( --vw-space-unit ) * 1)\; margin-left: 0px\; list-style: none\; border: 0px\; outline: none\; box-sizing: border-box\; color: rgb(122\, 122\, 122)\; font-family: Roboto\, sans-serif\; font-size: 17px\;"><span style="font-size:18px\;"><span data-contrast="none" style="padding: 0px\; margin: 0px\; list-style: none\; border: 0px\; outline: none\; box-sizing: border-box\;">After much anticipation\, The Bite Eatery&nbsp\;</span><span data-contrast="none" style="padding: 0px\; margin: 0px\; list-style: none\; border: 0px\; outline: none\; box-sizing: border-box\;">&ndash\;&nbsp\;</span><span data-contrast="none" style="padding: 0px\; margin: 0px\; list-style: none\; border: 0px\; outline: none\; box-sizing: border-box\;">the first-ever food hall in Pompano Beach &ndash\; has opened its doors.</span></span><br />\n&nbsp\;</p>\n\n<p style="padding: 0px\; margin-top: 0px\; margin-right: 0px\; margin-bottom: calc(var( --vw-space-unit ) * 1)\; margin-left: 0px\; list-style: none\; border: 0px\; outline: none\; box-sizing: border-box\; color: rgb(122\, 122\, 122)\; font-family: Roboto\, sans-serif\; font-size: 17px\;"><span style="font-size:18px\;"><span data-contrast="none" style="padding: 0px\; margin: 0px\; list-style: none\; border: 0px\; outline: none\; box-sizing: border-box\;">Located at 2715 E. Atlantic Boulevard in The Harbor Village Shops\, the food hall features nine culinary concepts and one full-service bar\, all under one roof. Participating restaurants include Deli Shack\, Taco Vibez\, Papa&rsquo\;s Pizzeria\, Lobstar\, Mama Mia\, Beef Boyz\, Ceviche Time\, Abuelita&rsquo\;s Cuban Bistro and Moop Gelato.<br />\n<br />\nThe Bite Bar\, centrally located in the food hall\, will serve drinks to all the establishments.</span></span></p>\n
LOCATION:Sponsored By: The Bite Eatery 2715 E. Atlantic Blvd Pompano Beach
UID:e.1957.679363
SEQUENCE:3
DTSTAMP:20260421T200943Z
URL:https://chambermaster.pompanobeachchamber.com/events/details/business-with-a-twist-tba-11-01-2023-679363
END:VEVENT

END:VCALENDAR
