BEGIN:VCALENDAR
VERSION:2.0
PRODID:-//ChamberMaster//Event Calendar 2.0//EN
METHOD:PUBLISH
X-PUBLISHED-TTL:P3D
REFRESH-INTERVAL:P3D
CALSCALE:GREGORIAN
BEGIN:VEVENT
DTSTART:20231127T210000Z
DTEND:20231127T230000Z
X-MICROSOFT-CDO-ALLDAYEVENT:FALSE
SUMMARY:Board of Directors Meeting (Exclusive by invitation only)
DESCRIPTION:
X-ALT-DESC;FMTTYPE=text/html:
LOCATION:Pompano Beach Cultural Center 50 W Atlantic Blvd Pompano Beach\, FL 33060
UID:e.1957.685109
SEQUENCE:3
DTSTAMP:20260420T070734Z
URL:https://chambermaster.pompanobeachchamber.com/events/details/board-of-directors-meeting-exclusive-by-invitation-only-685109
END:VEVENT

END:VCALENDAR
