BEGIN:VCALENDAR
VERSION:2.0
PRODID:-//ChamberMaster//Event Calendar 2.0//EN
METHOD:PUBLISH
X-PUBLISHED-TTL:P3D
REFRESH-INTERVAL:P3D
CALSCALE:GREGORIAN
BEGIN:VEVENT
DTSTART:20230914T200000Z
DTEND:20230914T210000Z
X-MICROSOFT-CDO-ALLDAYEVENT:FALSE
SUMMARY:Ambassadors Meeting (Your Chamber Connection)
DESCRIPTION:The Front Line of Connection\n\n\nAmbassadors Meetings are designed to align\, empower\, and equip our Ambassadors as the welcoming face of the Chamber.\n\n\n\nThese gatherings focus on communication\, engagement\, and support\, ensuring Ambassadors are informed\, confident\, and prepared to represent the Chamber at events and within the community. It is a space to share updates\, strengthen relationships\, and recognize the impact Ambassadors make in connecting businesses and people.\n\n\n\nReserved for Chamber Ambassadors.
X-ALT-DESC;FMTTYPE=text/html:<div style="text-align: center\;"><span style="font-size:14px\;"><span style="font-family:arial\;"><strong>The Front Line of Connection</strong></span></span></div>\n<br />\n<span style="font-size:14px\;"><span style="font-family:arial\;">Ambassadors Meetings are designed to align\, empower\, and equip our Ambassadors as the welcoming face of the Chamber.<br />\n<br />\nThese gatherings focus on communication\, engagement\, and support\, ensuring Ambassadors are informed\, confident\, and prepared to represent the Chamber at events and within the community. It is a space to share updates\, strengthen relationships\, and recognize the impact Ambassadors make in connecting businesses and people.<br />\n<br />\nReserved for Chamber Ambassadors.</span></span>
LOCATION:Chamber Office 50 NE 26th Avenue\, Suite 401 Pompano Beach\, FL 33062
UID:e.1957.684213
SEQUENCE:3
DTSTAMP:20260421T151952Z
URL:https://chambermaster.pompanobeachchamber.com/events/details/ambassadors-meet-09-14-2023-684213
END:VEVENT

END:VCALENDAR
