BEGIN:VCALENDAR
VERSION:2.0
PRODID:-//ChamberMaster//Event Calendar 2.0//EN
METHOD:PUBLISH
X-PUBLISHED-TTL:P3D
REFRESH-INTERVAL:P3D
CALSCALE:GREGORIAN
BEGIN:VEVENT
DTSTART:20260514T213000Z
DTEND:20260515T000000Z
X-MICROSOFT-CDO-ALLDAYEVENT:FALSE
SUMMARY:2026 Summer Golf League - Week 1 (GPBCC & City of Pompano Beach) May 14 - August 27
DESCRIPTION:Let's get ready for the summer Golf League! Join us for 16 weeks of fun in the evening!\n\n"Swing into action\, let the excitement flow\, hit the greens with passion\, and watch your game grow!"
X-ALT-DESC;FMTTYPE=text/html:<span style="font-size:18px\;"><strong>&#8203\;Let&#39\;s get ready for the summer Golf League!&nbsp\;</strong><strong style="font-size: 16px\;">Join us for 16 weeks of fun in the evening!</strong><br />\n<span background-color:="" helvetica="" segoe="" style="color: rgb(36\, 36\, 36)\;" ui="" web="" west=""><strong>&quot\;Swing into action\, let the excitement flow\, hit the greens with passion\, and watch your game grow!</strong>&quot\;</span><span background-color:="" font-size:="" helvetica="" segoe="" style="color: rgb(36\, 36\, 36)\;" ui="" web="" west="">&nbsp\;&#127948\;&#65039\;&zwj\;&#9794\;&#65039\;&#9971\;</span></span>
LOCATION:
UID:e.1957.688124
SEQUENCE:3
DTSTAMP:20260422T134639Z
URL:https://chambermaster.pompanobeachchamber.com/events/details/2026-summer-golf-league-week-1-gpbcc-city-of-pompano-beach-may-14-august-27-688124
END:VEVENT

END:VCALENDAR
